BEGIN:VCALENDAR
VERSION:2.0
PRODID:SchoolNow
CALSCALE:GREGORIAN
BEGIN:VEVENT
UID:7ccf93aa-563c-11f0-98ff-0a58a9feac02
DTSTAMP:20260421T211106Z
SUMMARY:Boys Varsity Basketball v. Altmar-Parish-Williamstown (APW Rebels)
LOCATION:Jefferson Community College
URL;VALUE=URI:https://www.1000islandsschools.org/departments/athletics/cale
 ndar/8372379/boys-varsity-basketball-v-altmar-parish-williamstown-apw-rebe
 ls
DTSTART:20260110T160000Z
DTEND:20260110T170000Z
END:VEVENT
END:VCALENDAR
