BEGIN:VCALENDAR
VERSION:2.0
PRODID:SchoolNow
CALSCALE:GREGORIAN
BEGIN:VEVENT
UID:7ccf9490-563c-11f0-bc2f-0a58a9feac02
DTSTAMP:20260421T211106Z
SUMMARY:Boys Junior Varsity Basketball v. Altmar-Parish-Williamstown
LOCATION:Jefferson Community College
URL;VALUE=URI:https://www.1000islandsschools.org/departments/athletics/cale
 ndar/8372380/boys-junior-varsity-basketball-v-altmar-parish-williamstown
DTSTART:20260110T143000Z
DTEND:20260110T153000Z
END:VEVENT
END:VCALENDAR
