BEGIN:VCALENDAR
VERSION:2.0
PRODID:SchoolNow
CALSCALE:GREGORIAN
BEGIN:VEVENT
UID:7ccf9828-563c-11f0-8c40-0a58a9feac02
DTSTAMP:20260421T211106Z
SUMMARY:Girls Varsity Basketball v. Tully
LOCATION:Jefferson Community College
URL;VALUE=URI:https://www.1000islandsschools.org/departments/athletics/cale
 ndar/8372384/girls-varsity-basketball-v-tully
DTSTART:20260117T193000Z
DTEND:20260117T203000Z
END:VEVENT
END:VCALENDAR
