BEGIN:VCALENDAR
VERSION:2.0
PRODID:SchoolNow
CALSCALE:GREGORIAN
BEGIN:VEVENT
UID:7ccf9918-563c-11f0-83f9-0a58a9feac02
DTSTAMP:20260421T211106Z
SUMMARY:Girls Junior Varsity Basketball v. Tully
LOCATION:Jefferson Community College
URL;VALUE=URI:https://www.1000islandsschools.org/departments/athletics/cale
 ndar/8372385/girls-junior-varsity-basketball-v-tully
DTSTART:20260117T180000Z
DTEND:20260117T190000Z
END:VEVENT
END:VCALENDAR
