BEGIN:VCALENDAR
VERSION:2.0
PRODID:SchoolNow
CALSCALE:GREGORIAN
BEGIN:VEVENT
UID:7ccf9a26-563c-11f0-8073-0a58a9feac02
DTSTAMP:20260421T211106Z
SUMMARY:Girls Varsity Basketball @ Weedsport
LOCATION:Weedsport Jr.-Sr. High School
URL;VALUE=URI:https://www.1000islandsschools.org/departments/athletics/cale
 ndar/8372386/girls-varsity-basketball-weedsport
DTSTART:20260109T000000Z
DTEND:20260109T010000Z
END:VEVENT
END:VCALENDAR
