BEGIN:VCALENDAR
VERSION:2.0
PRODID:SchoolNow
CALSCALE:GREGORIAN
BEGIN:VEVENT
UID:7ccf9b2a-563c-11f0-b0c0-0a58a9feac02
DTSTAMP:20260421T211106Z
SUMMARY:Girls Junior Varsity Basketball @ Weedsport
LOCATION:Weedsport Jr.-Sr. High School
URL;VALUE=URI:https://www.1000islandsschools.org/departments/athletics/cale
 ndar/8372387/girls-junior-varsity-basketball-weedsport
DTSTART:20260108T223000Z
DTEND:20260108T233000Z
END:VEVENT
END:VCALENDAR
