BEGIN:VCALENDAR
VERSION:2.0
PRODID:SchoolNow
CALSCALE:GREGORIAN
BEGIN:VEVENT
UID:7ccf9c06-563c-11f0-9111-0a58a9feac02
DTSTAMP:20260421T211106Z
SUMMARY:Boys Varsity Basketball v. Lyme
LOCATION:Thousand Islands High School Gym
URL;VALUE=URI:https://www.1000islandsschools.org/departments/athletics/cale
 ndar/8372388/boys-varsity-basketball-v-lyme
DTSTART:20260205T003000Z
DTEND:20260205T013000Z
END:VEVENT
END:VCALENDAR
