BEGIN:VCALENDAR
VERSION:2.0
PRODID:SchoolNow
CALSCALE:GREGORIAN
BEGIN:VEVENT
UID:7ccf9cf6-563c-11f0-89ac-0a58a9feac02
DTSTAMP:20260421T211106Z
SUMMARY:Boys Junior Varsity Basketball v. Lyme
LOCATION:Thousand Islands High School Gym
URL;VALUE=URI:https://www.1000islandsschools.org/departments/athletics/cale
 ndar/8372389/boys-junior-varsity-basketball-v-lyme
DTSTART:20260204T230000Z
DTEND:20260205T000000Z
END:VEVENT
END:VCALENDAR
