BEGIN:VCALENDAR
VERSION:2.0
PRODID:SchoolNow
CALSCALE:GREGORIAN
BEGIN:VEVENT
UID:7ccfd432-563c-11f0-93ab-0a58a9feac02
DTSTAMP:20260421T211106Z
SUMMARY:Girls Varsity Basketball @ Beaver River
LOCATION:Beaver River H S
URL;VALUE=URI:https://www.1000islandsschools.org/departments/athletics/cale
 ndar/8372448/girls-varsity-basketball-beaver-river
DTSTART:20260117T003000Z
DTEND:20260117T013000Z
END:VEVENT
END:VCALENDAR
