BEGIN:VCALENDAR
VERSION:2.0
PRODID:SchoolNow
CALSCALE:GREGORIAN
BEGIN:VEVENT
UID:7ccfd608-563c-11f0-8089-0a58a9feac02
DTSTAMP:20260421T211106Z
SUMMARY:CANCELLED: Girls Varsity Volleyball @ Beaver River
LOCATION:Beaver River E S
URL;VALUE=URI:https://www.1000islandsschools.org/departments/athletics/cale
 ndar/8372450/cancelled-girls-varsity-volleyball-beaver-river
DTSTART:20260130T003000Z
DTEND:20260130T013000Z
END:VEVENT
END:VCALENDAR
