BEGIN:VCALENDAR
VERSION:2.0
PRODID:SchoolNow
CALSCALE:GREGORIAN
BEGIN:VEVENT
UID:7ccfd6ee-563c-11f0-97df-0a58a9feac02
DTSTAMP:20260421T211106Z
SUMMARY:Girls Varsity Basketball @ Lowville
LOCATION:Lowville High School Main Gym
URL;VALUE=URI:https://www.1000islandsschools.org/departments/athletics/cale
 ndar/8372451/girls-varsity-basketball-lowville
DTSTART:20260203T003000Z
DTEND:20260203T013000Z
END:VEVENT
END:VCALENDAR
