BEGIN:VCALENDAR
VERSION:2.0
PRODID:SchoolNow
CALSCALE:GREGORIAN
BEGIN:VEVENT
UID:7ccfd7d4-563c-11f0-988a-0a58a9feac02
DTSTAMP:20260421T211106Z
SUMMARY:Girls Junior Varsity Basketball @ Lowville
LOCATION:Lowville High School Main Gym
URL;VALUE=URI:https://www.1000islandsschools.org/departments/athletics/cale
 ndar/8372452/girls-junior-varsity-basketball-lowville
DTSTART:20260202T230000Z
DTEND:20260203T000000Z
END:VEVENT
END:VCALENDAR
