BEGIN:VCALENDAR
VERSION:2.0
PRODID:SchoolNow
CALSCALE:GREGORIAN
BEGIN:VEVENT
UID:7ccfd8ba-563c-11f0-98ac-0a58a9feac02
DTSTAMP:20260421T211106Z
SUMMARY:Boys Junior Varsity Basketball v. Beaver River
LOCATION:Thousand Islands High School
URL;VALUE=URI:https://www.1000islandsschools.org/departments/athletics/cale
 ndar/8372453/boys-junior-varsity-basketball-v-beaver-river
DTSTART:20260131T180000Z
DTEND:20260131T190000Z
END:VEVENT
END:VCALENDAR
