BEGIN:VCALENDAR
VERSION:2.0
PRODID:SchoolNow
CALSCALE:GREGORIAN
BEGIN:VEVENT
UID:7d027ee6-563c-11f0-a76b-0a58a9feac02
DTSTAMP:20260421T211106Z
SUMMARY:Girls Junior Varsity Volleyball @ Beaver River
LOCATION:Beaver River E S
URL;VALUE=URI:https://www.1000islandsschools.org/departments/athletics/cale
 ndar/8372462/girls-junior-varsity-volleyball-beaver-river
DTSTART:20260129T230000Z
DTEND:20260130T000000Z
END:VEVENT
END:VCALENDAR
