BEGIN:VCALENDAR
VERSION:2.0
PRODID:SchoolNow
CALSCALE:GREGORIAN
BEGIN:VEVENT
UID:7d027fea-563c-11f0-b3b0-0a58a9feac02
DTSTAMP:20260421T211106Z
SUMMARY:POSTPONED: Girls Junior Varsity Volleyball @ Carthage
LOCATION:Carthage HS Gym
URL;VALUE=URI:https://www.1000islandsschools.org/departments/athletics/cale
 ndar/8372463/postponed-girls-junior-varsity-volleyball-carthage
DTSTART:20260105T223000Z
DTEND:20260105T233000Z
END:VEVENT
END:VCALENDAR
