BEGIN:VCALENDAR
VERSION:2.0
PRODID:SchoolNow
CALSCALE:GREGORIAN
BEGIN:VEVENT
UID:7d0280da-563c-11f0-99cf-0a58a9feac02
DTSTAMP:20260421T211106Z
SUMMARY:Girls Varsity Volleyball @ Carthage
LOCATION:Carthage HS Gym
URL;VALUE=URI:https://www.1000islandsschools.org/departments/athletics/cale
 ndar/8372464/girls-varsity-volleyball-carthage
DTSTART:20260117T140000Z
DTEND:20260117T150000Z
END:VEVENT
END:VCALENDAR
