BEGIN:VCALENDAR
VERSION:2.0
PRODID:SchoolNow
CALSCALE:GREGORIAN
BEGIN:VEVENT
UID:7d0281ca-563c-11f0-a82e-0a58a9feac02
DTSTAMP:20260421T211106Z
SUMMARY:Boys Junior Varsity Basketball v. Alexandria
LOCATION:Thousand Islands High School Gym
URL;VALUE=URI:https://www.1000islandsschools.org/departments/athletics/cale
 ndar/8372465/boys-junior-varsity-basketball-v-alexandria
DTSTART:20260109T230000Z
DTEND:20260110T000000Z
END:VEVENT
END:VCALENDAR
