BEGIN:VCALENDAR
VERSION:2.0
PRODID:SchoolNow
CALSCALE:GREGORIAN
BEGIN:VEVENT
UID:7d0282b0-563c-11f0-a2bd-0a58a9feac02
DTSTAMP:20260421T211106Z
SUMMARY:Boys Varsity Basketball v. Alexandria
LOCATION:Thousand Islands High School Gym
URL;VALUE=URI:https://www.1000islandsschools.org/departments/athletics/cale
 ndar/8372466/boys-varsity-basketball-v-alexandria
DTSTART:20260110T003000Z
DTEND:20260110T013000Z
END:VEVENT
END:VCALENDAR
