BEGIN:VCALENDAR
VERSION:2.0
PRODID:SchoolNow
CALSCALE:GREGORIAN
BEGIN:VEVENT
UID:7d0283a0-563c-11f0-a828-0a58a9feac02
DTSTAMP:20260421T211106Z
SUMMARY:Girls Junior Varsity Basketball @ Alexandria
LOCATION:Alexandria School
URL;VALUE=URI:https://www.1000islandsschools.org/departments/athletics/cale
 ndar/8372467/girls-junior-varsity-basketball-alexandria
DTSTART:20260110T160000Z
DTEND:20260110T170000Z
END:VEVENT
END:VCALENDAR
