BEGIN:VCALENDAR
VERSION:2.0
PRODID:SchoolNow
CALSCALE:GREGORIAN
BEGIN:VEVENT
UID:7d028486-563c-11f0-996f-0a58a9feac02
DTSTAMP:20260421T211106Z
SUMMARY:Girls Varsity Basketball @ Alexandria
LOCATION:Alexandria School
URL;VALUE=URI:https://www.1000islandsschools.org/departments/athletics/cale
 ndar/8372468/girls-varsity-basketball-alexandria
DTSTART:20260110T173000Z
DTEND:20260110T183000Z
END:VEVENT
END:VCALENDAR
