BEGIN:VCALENDAR
VERSION:2.0
PRODID:SchoolNow
CALSCALE:GREGORIAN
BEGIN:VEVENT
UID:7d02856c-563c-11f0-b47b-0a58a9feac02
DTSTAMP:20260421T211106Z
SUMMARY:CANCELLED: Girls Junior Varsity Basketball v. Belleville Henderson
LOCATION:Thousand Islands High School Gym
URL;VALUE=URI:https://www.1000islandsschools.org/departments/athletics/cale
 ndar/8372469/cancelled-girls-junior-varsity-basketball-v-belleville-hender
 son
DTSTART:20260113T230000Z
DTEND:20260114T000000Z
END:VEVENT
END:VCALENDAR
