BEGIN:VCALENDAR
VERSION:2.0
PRODID:SchoolNow
CALSCALE:GREGORIAN
BEGIN:VEVENT
UID:7d028652-563c-11f0-b41b-0a58a9feac02
DTSTAMP:20260421T211106Z
SUMMARY:Girls Varsity Basketball v. Belleville Henderson
LOCATION:Thousand Islands High School Gym
URL;VALUE=URI:https://www.1000islandsschools.org/departments/athletics/cale
 ndar/8372470/girls-varsity-basketball-v-belleville-henderson
DTSTART:20260113T233000Z
DTEND:20260114T003000Z
END:VEVENT
END:VCALENDAR
