BEGIN:VCALENDAR
VERSION:2.0
PRODID:SchoolNow
CALSCALE:GREGORIAN
BEGIN:VEVENT
UID:7d028742-563c-11f0-94a7-0a58a9feac02
DTSTAMP:20260421T211106Z
SUMMARY:Boys Junior Varsity Basketball @ Belleville Henderson
LOCATION:Belleville
URL;VALUE=URI:https://www.1000islandsschools.org/departments/athletics/cale
 ndar/8372471/boys-junior-varsity-basketball-belleville-henderson
DTSTART:20260112T230000Z
DTEND:20260113T000000Z
END:VEVENT
END:VCALENDAR
