BEGIN:VCALENDAR
VERSION:2.0
PRODID:SchoolNow
CALSCALE:GREGORIAN
BEGIN:VEVENT
UID:7d02881e-563c-11f0-8e62-0a58a9feac02
DTSTAMP:20260421T211106Z
SUMMARY:Boys Varsity Basketball @ Belleville Henderson
LOCATION:Belleville
URL;VALUE=URI:https://www.1000islandsschools.org/departments/athletics/cale
 ndar/8372472/boys-varsity-basketball-belleville-henderson
DTSTART:20260113T003000Z
DTEND:20260113T013000Z
END:VEVENT
END:VCALENDAR
