BEGIN:VCALENDAR
VERSION:2.0
PRODID:SchoolNow
CALSCALE:GREGORIAN
BEGIN:VEVENT
UID:7d028904-563c-11f0-aa26-0a58a9feac02
DTSTAMP:20260421T211106Z
SUMMARY:Girls Junior Varsity Volleyball v. General Brown
LOCATION:Thousand Islands High School
URL;VALUE=URI:https://www.1000islandsschools.org/departments/athletics/cale
 ndar/8372473/girls-junior-varsity-volleyball-v-general-brown
DTSTART:20260103T150000Z
DTEND:20260103T160000Z
END:VEVENT
END:VCALENDAR
