BEGIN:VCALENDAR
VERSION:2.0
PRODID:SchoolNow
CALSCALE:GREGORIAN
BEGIN:VEVENT
UID:7d0289e0-563c-11f0-9ffd-0a58a9feac02
DTSTAMP:20260421T211106Z
SUMMARY:Girls Varsity Volleyball v. General Brown
LOCATION:Thousand Islands High School
URL;VALUE=URI:https://www.1000islandsschools.org/departments/athletics/cale
 ndar/8372474/girls-varsity-volleyball-v-general-brown
DTSTART:20260103T163000Z
DTEND:20260103T173000Z
END:VEVENT
END:VCALENDAR
