BEGIN:VCALENDAR
VERSION:2.0
PRODID:SchoolNow
CALSCALE:GREGORIAN
BEGIN:VEVENT
UID:7d028ac6-563c-11f0-83c1-0a58a9feac02
DTSTAMP:20260421T211106Z
SUMMARY:Girls Junior Varsity Basketball v. LaFargeville
LOCATION:Thousand Islands High School Gym
URL;VALUE=URI:https://www.1000islandsschools.org/departments/athletics/cale
 ndar/8372475/girls-junior-varsity-basketball-v-lafargeville
DTSTART:20260206T230000Z
DTEND:20260207T000000Z
END:VEVENT
END:VCALENDAR
