BEGIN:VCALENDAR
VERSION:2.0
PRODID:SchoolNow
CALSCALE:GREGORIAN
BEGIN:VEVENT
UID:7d028ba2-563c-11f0-af0b-0a58a9feac02
DTSTAMP:20260421T211106Z
SUMMARY:Girls Varsity Basketball v. LaFargeville
LOCATION:Thousand Islands High School Gym
URL;VALUE=URI:https://www.1000islandsschools.org/departments/athletics/cale
 ndar/8372476/girls-varsity-basketball-v-lafargeville
DTSTART:20260207T003000Z
DTEND:20260207T013000Z
END:VEVENT
END:VCALENDAR
