BEGIN:VCALENDAR
VERSION:2.0
PRODID:SchoolNow
CALSCALE:GREGORIAN
BEGIN:VEVENT
UID:7d028c88-563c-11f0-8511-0a58a9feac02
DTSTAMP:20260421T211106Z
SUMMARY:Boys Junior Varsity Basketball @ LaFargeville
LOCATION:Lafargeville School
URL;VALUE=URI:https://www.1000islandsschools.org/departments/athletics/cale
 ndar/8372477/boys-junior-varsity-basketball-lafargeville
DTSTART:20260108T230000Z
DTEND:20260109T000000Z
END:VEVENT
END:VCALENDAR
