BEGIN:VCALENDAR
VERSION:2.0
PRODID:SchoolNow
CALSCALE:GREGORIAN
BEGIN:VEVENT
UID:7d028d64-563c-11f0-b39b-0a58a9feac02
DTSTAMP:20260421T211106Z
SUMMARY:Boys Varsity Basketball @ LaFargeville
LOCATION:Lafargeville School
URL;VALUE=URI:https://www.1000islandsschools.org/departments/athletics/cale
 ndar/8372478/boys-varsity-basketball-lafargeville
DTSTART:20260109T003000Z
DTEND:20260109T013000Z
END:VEVENT
END:VCALENDAR
