BEGIN:VCALENDAR
VERSION:2.0
PRODID:SchoolNow
CALSCALE:GREGORIAN
BEGIN:VEVENT
UID:7d028e4a-563c-11f0-9684-0a58a9feac02
DTSTAMP:20260421T211106Z
SUMMARY:Girls Junior Varsity Volleyball @ Lowville
LOCATION:Lowville Lower Gym
URL;VALUE=URI:https://www.1000islandsschools.org/departments/athletics/cale
 ndar/8372479/girls-junior-varsity-volleyball-lowville
DTSTART:20260130T233000Z
DTEND:20260131T003000Z
END:VEVENT
END:VCALENDAR
