BEGIN:VCALENDAR
VERSION:2.0
PRODID:SchoolNow
CALSCALE:GREGORIAN
BEGIN:VEVENT
UID:7d028f26-563c-11f0-8f5f-0a58a9feac02
DTSTAMP:20260421T211106Z
SUMMARY:Girls Varsity Volleyball @ Lowville
LOCATION:Lowville High School Main Gym
URL;VALUE=URI:https://www.1000islandsschools.org/departments/athletics/cale
 ndar/8372480/girls-varsity-volleyball-lowville
DTSTART:20260131T010000Z
DTEND:20260131T020000Z
END:VEVENT
END:VCALENDAR
