BEGIN:VCALENDAR
VERSION:2.0
PRODID:SchoolNow
CALSCALE:GREGORIAN
BEGIN:VEVENT
UID:7d02900c-563c-11f0-951c-0a58a9feac02
DTSTAMP:20260421T211106Z
SUMMARY:Girls Junior Varsity Basketball v. Lyme
LOCATION:Thousand Islands High School Gym
URL;VALUE=URI:https://www.1000islandsschools.org/departments/athletics/cale
 ndar/8372481/girls-junior-varsity-basketball-v-lyme
DTSTART:20260102T170000Z
DTEND:20260102T180000Z
END:VEVENT
END:VCALENDAR
