BEGIN:VCALENDAR
VERSION:2.0
PRODID:SchoolNow
CALSCALE:GREGORIAN
BEGIN:VEVENT
UID:7d0290e8-563c-11f0-b185-0a58a9feac02
DTSTAMP:20260421T211106Z
SUMMARY:Girls Varsity Basketball v. Lyme
LOCATION:Thousand Islands High School Gym
URL;VALUE=URI:https://www.1000islandsschools.org/departments/athletics/cale
 ndar/8372482/girls-varsity-basketball-v-lyme
DTSTART:20260102T183000Z
DTEND:20260102T193000Z
END:VEVENT
END:VCALENDAR
