BEGIN:VCALENDAR
VERSION:2.0
PRODID:SchoolNow
CALSCALE:GREGORIAN
BEGIN:VEVENT
UID:7d0291e2-563c-11f0-964b-0a58a9feac02
DTSTAMP:20260421T211106Z
SUMMARY:Boys Junior Varsity Basketball @ Lyme
LOCATION:Lyme School
URL;VALUE=URI:https://www.1000islandsschools.org/departments/athletics/cale
 ndar/8372483/boys-junior-varsity-basketball-lyme
DTSTART:20260116T223000Z
DTEND:20260116T233000Z
END:VEVENT
END:VCALENDAR
