BEGIN:VCALENDAR
VERSION:2.0
PRODID:SchoolNow
CALSCALE:GREGORIAN
BEGIN:VEVENT
UID:7d0292be-563c-11f0-853f-0a58a9feac02
DTSTAMP:20260421T211106Z
SUMMARY:Boys Varsity Basketball @ Lyme
LOCATION:Lyme School
URL;VALUE=URI:https://www.1000islandsschools.org/departments/athletics/cale
 ndar/8372484/boys-varsity-basketball-lyme
DTSTART:20260117T000000Z
DTEND:20260117T010000Z
END:VEVENT
END:VCALENDAR
