BEGIN:VCALENDAR
VERSION:2.0
PRODID:SchoolNow
CALSCALE:GREGORIAN
BEGIN:VEVENT
UID:7d029aac-563c-11f0-ab09-0a58a9feac02
DTSTAMP:20260421T211106Z
SUMMARY:Girls Junior Varsity Volleyball v. South Lewis
LOCATION:Thousand Islands High School
URL;VALUE=URI:https://www.1000islandsschools.org/departments/athletics/cale
 ndar/8372493/girls-junior-varsity-volleyball-v-south-lewis
DTSTART:20260124T150000Z
DTEND:20260124T160000Z
END:VEVENT
END:VCALENDAR
