BEGIN:VCALENDAR
VERSION:2.0
PRODID:SchoolNow
CALSCALE:GREGORIAN
BEGIN:VEVENT
UID:7d029b88-563c-11f0-b331-0a58a9feac02
DTSTAMP:20260421T211106Z
SUMMARY:Girls Varsity Volleyball v. South Lewis
LOCATION:Thousand Islands High School
URL;VALUE=URI:https://www.1000islandsschools.org/departments/athletics/cale
 ndar/8372494/girls-varsity-volleyball-v-south-lewis
DTSTART:20260124T163000Z
DTEND:20260124T173000Z
END:VEVENT
END:VCALENDAR
