BEGIN:VCALENDAR
VERSION:2.0
PRODID:SchoolNow
CALSCALE:GREGORIAN
BEGIN:VEVENT
UID:7d02a36c-563c-11f0-bc5e-0a58a9feac02
DTSTAMP:20260421T211106Z
SUMMARY:Girls Junior Varsity Volleyball v. Sandy Creek
LOCATION:Thousand Islands High School
URL;VALUE=URI:https://www.1000islandsschools.org/departments/athletics/cale
 ndar/8372503/girls-junior-varsity-volleyball-v-sandy-creek
DTSTART:20260108T230000Z
DTEND:20260109T000000Z
END:VEVENT
END:VCALENDAR
