BEGIN:VCALENDAR
VERSION:2.0
PRODID:SchoolNow
CALSCALE:GREGORIAN
BEGIN:VEVENT
UID:7d02a448-563c-11f0-a410-0a58a9feac02
DTSTAMP:20260421T211106Z
SUMMARY:Girls Varsity Volleyball v. Sandy Creek
LOCATION:Thousand Islands High School
URL;VALUE=URI:https://www.1000islandsschools.org/departments/athletics/cale
 ndar/8372504/girls-varsity-volleyball-v-sandy-creek
DTSTART:20260109T003000Z
DTEND:20260109T013000Z
END:VEVENT
END:VCALENDAR
