BEGIN:VCALENDAR
VERSION:2.0
PRODID:SchoolNow
CALSCALE:GREGORIAN
BEGIN:VEVENT
UID:7d02a51a-563c-11f0-b957-0a58a9feac02
DTSTAMP:20260421T211106Z
SUMMARY:Girls Junior Varsity Basketball @ Immaculate Heart Central\, Watert
 own
LOCATION:Immaculate Heart Central  H S
URL;VALUE=URI:https://www.1000islandsschools.org/departments/athletics/cale
 ndar/8372505/girls-junior-varsity-basketball-immaculate-heart-central-wate
 rtown
DTSTART:20260130T223000Z
DTEND:20260130T233000Z
END:VEVENT
END:VCALENDAR
