BEGIN:VCALENDAR
VERSION:2.0
PRODID:SchoolNow
CALSCALE:GREGORIAN
BEGIN:VEVENT
UID:7d02a600-563c-11f0-b5d6-0a58a9feac02
DTSTAMP:20260421T211106Z
SUMMARY:Girls Varsity Basketball @ Immaculate Heart Central\, Watertown
LOCATION:Immaculate Heart Central  H S
URL;VALUE=URI:https://www.1000islandsschools.org/departments/athletics/cale
 ndar/8372506/girls-varsity-basketball-immaculate-heart-central-watertown
DTSTART:20260131T000000Z
DTEND:20260131T010000Z
END:VEVENT
END:VCALENDAR
