BEGIN:VCALENDAR
VERSION:2.0
PRODID:SchoolNow
CALSCALE:GREGORIAN
BEGIN:VEVENT
UID:7d02a6dc-563c-11f0-8ca4-0a58a9feac02
DTSTAMP:20260421T211106Z
SUMMARY:CANCELLED: Girls Junior Varsity Basketball v. Sandy Creek
LOCATION:Thousand Islands High School Gym
URL;VALUE=URI:https://www.1000islandsschools.org/departments/athletics/cale
 ndar/8372507/cancelled-girls-junior-varsity-basketball-v-sandy-creek
DTSTART:20260123T230000Z
DTEND:20260124T000000Z
END:VEVENT
END:VCALENDAR
