BEGIN:VCALENDAR
VERSION:2.0
PRODID:SchoolNow
CALSCALE:GREGORIAN
BEGIN:VEVENT
UID:7d02a7c2-563c-11f0-88b1-0a58a9feac02
DTSTAMP:20260421T211106Z
SUMMARY:Girls Varsity Basketball v. Sandy Creek
LOCATION:Thousand Islands High School Gym
URL;VALUE=URI:https://www.1000islandsschools.org/departments/athletics/cale
 ndar/8372508/girls-varsity-basketball-v-sandy-creek
DTSTART:20260131T160000Z
DTEND:20260131T170000Z
END:VEVENT
END:VCALENDAR
