BEGIN:VCALENDAR
VERSION:2.0
PRODID:SchoolNow
CALSCALE:GREGORIAN
BEGIN:VEVENT
UID:7d02a89e-563c-11f0-9e6b-0a58a9feac02
DTSTAMP:20260421T211106Z
SUMMARY:Boys Junior Varsity Basketball @ Sandy Creek
LOCATION:Sandy Creek MS/HS Gym
URL;VALUE=URI:https://www.1000islandsschools.org/departments/athletics/cale
 ndar/8372509/boys-junior-varsity-basketball-sandy-creek
DTSTART:20260205T230000Z
DTEND:20260206T000000Z
END:VEVENT
END:VCALENDAR
