BEGIN:VCALENDAR
VERSION:2.0
PRODID:SchoolNow
CALSCALE:GREGORIAN
BEGIN:VEVENT
UID:7d02a984-563c-11f0-a1a8-0a58a9feac02
DTSTAMP:20260421T211106Z
SUMMARY:Boys Varsity Basketball @ Sandy Creek
LOCATION:Sandy Creek MS/HS Gym
URL;VALUE=URI:https://www.1000islandsschools.org/departments/athletics/cale
 ndar/8372510/boys-varsity-basketball-sandy-creek
DTSTART:20260206T003000Z
DTEND:20260206T013000Z
END:VEVENT
END:VCALENDAR
