BEGIN:VCALENDAR
VERSION:2.0
PRODID:SchoolNow
CALSCALE:GREGORIAN
BEGIN:VEVENT
UID:7d02aa60-563c-11f0-915e-0a58a9feac02
DTSTAMP:20260421T211106Z
SUMMARY:Boys Varsity Basketball v. Immaculate Heart Central\, Watertown
LOCATION:Thousand Islands High School Gym
URL;VALUE=URI:https://www.1000islandsschools.org/departments/athletics/cale
 ndar/8372511/boys-varsity-basketball-v-immaculate-heart-central-watertown
DTSTART:20260124T003000Z
DTEND:20260124T013000Z
END:VEVENT
END:VCALENDAR
