BEGIN:VCALENDAR
VERSION:2.0
PRODID:SchoolNow
CALSCALE:GREGORIAN
BEGIN:VEVENT
UID:7d02cea0-563c-11f0-b7bc-0a58a9feac02
DTSTAMP:20260421T211106Z
SUMMARY:Boys Varsity Basketball @ Sackets Harbor
LOCATION:SHCS Gymnasium
URL;VALUE=URI:https://www.1000islandsschools.org/departments/athletics/cale
 ndar/8372547/boys-varsity-basketball-sackets-harbor
DTSTART:20260130T010000Z
DTEND:20260130T020000Z
END:VEVENT
END:VCALENDAR
