BEGIN:VCALENDAR
VERSION:2.0
PRODID:SchoolNow
CALSCALE:GREGORIAN
BEGIN:VEVENT
UID:7d02cf7c-563c-11f0-8453-0a58a9feac02
DTSTAMP:20260421T211106Z
SUMMARY:Boys Junior Varsity Basketball @ Sackets Harbor
LOCATION:SHCS Gymnasium
URL;VALUE=URI:https://www.1000islandsschools.org/departments/athletics/cale
 ndar/8372548/boys-junior-varsity-basketball-sackets-harbor
DTSTART:20260129T233000Z
DTEND:20260130T003000Z
END:VEVENT
END:VCALENDAR
