BEGIN:VCALENDAR
VERSION:2.0
PRODID:SchoolNow
CALSCALE:GREGORIAN
BEGIN:VEVENT
UID:7d02d224-563c-11f0-8e7e-0a58a9feac02
DTSTAMP:20260421T211106Z
SUMMARY:Girls Varsity Basketball v. Pulaski
LOCATION:Jefferson Community College
URL;VALUE=URI:https://www.1000islandsschools.org/departments/athletics/cale
 ndar/8372551/girls-varsity-basketball-v-pulaski
DTSTART:20251227T163000Z
DTEND:20251227T173000Z
END:VEVENT
END:VCALENDAR
